Package: Repitools Version: 1.54.0 Command: /home/biocbuild/R/R/bin/R CMD INSTALL Repitools StartedAt: 2025-10-13 20:46:33 -0000 (Mon, 13 Oct 2025) EndedAt: 2025-10-13 20:47:28 -0000 (Mon, 13 Oct 2025) EllapsedTime: 55.2 seconds RetCode: 0 Status: OK