Package: Repitools Version: 1.54.0 Command: /Library/Frameworks/R.framework/Resources/bin/R CMD INSTALL Repitools StartedAt: 2025-10-13 18:44:38 -0400 (Mon, 13 Oct 2025) EndedAt: 2025-10-13 18:44:39 -0400 (Mon, 13 Oct 2025) EllapsedTime: 0.4 seconds RetCode: 1 Status: ERROR