Package: Repitools Version: 1.54.0 Command: /Library/Frameworks/R.framework/Resources/bin/R CMD build --keep-empty-dirs --no-resave-data Repitools StartedAt: 2025-10-14 07:38:13 -0400 (Tue, 14 Oct 2025) EndedAt: 2025-10-14 07:38:14 -0400 (Tue, 14 Oct 2025) EllapsedTime: 1.2 seconds RetCode: 1 Status: ERROR PackageFile: None PackageFileSize: NA