Package: RepViz Version: 1.24.0 Command: /home/biocbuild/bbs-3.21-bioc/R/bin/R CMD INSTALL RepViz StartedAt: 2025-10-15 15:25:34 -0400 (Wed, 15 Oct 2025) EndedAt: 2025-10-15 15:25:50 -0400 (Wed, 15 Oct 2025) EllapsedTime: 16.3 seconds RetCode: 0 Status: OK