Package: RepViz Version: 1.24.0 Command: /home/biocbuild/R/R/bin/R CMD INSTALL RepViz StartedAt: 2025-10-13 20:40:49 -0000 (Mon, 13 Oct 2025) EndedAt: 2025-10-13 20:41:12 -0000 (Mon, 13 Oct 2025) EllapsedTime: 23.3 seconds RetCode: 0 Status: OK