Package: RepViz Version: 1.24.0 Command: /Library/Frameworks/R.framework/Resources/bin/R CMD build --keep-empty-dirs --no-resave-data RepViz StartedAt: 2025-10-14 07:38:43 -0400 (Tue, 14 Oct 2025) EndedAt: 2025-10-14 07:39:22 -0400 (Tue, 14 Oct 2025) EllapsedTime: 39.7 seconds RetCode: 0 Status: OK PackageFile: RepViz_1.24.0.tar.gz PackageFileSize: 274.1 KiB