Package: ReducedExperiment Version: 1.0.2 Command: /home/biocbuild/R/R/bin/R CMD INSTALL ReducedExperiment StartedAt: 2025-10-13 21:07:46 -0000 (Mon, 13 Oct 2025) EndedAt: 2025-10-13 21:08:38 -0000 (Mon, 13 Oct 2025) EllapsedTime: 51.5 seconds RetCode: 0 Status: OK