Package: ReducedExperiment Version: 1.0.2 Command: rm -rf ReducedExperiment.buildbin-libdir && mkdir ReducedExperiment.buildbin-libdir && /Users/biocbuild/BBS/utils/build-universal.sh ReducedExperiment_1.0.2.tar.gz /Library/Frameworks/R.framework/Resources/bin/R ReducedExperiment.buildbin-libdir StartedAt: 2025-10-15 20:01:31 -0400 (Wed, 15 Oct 2025) EndedAt: 2025-10-15 20:02:18 -0400 (Wed, 15 Oct 2025) EllapsedTime: 47.2 seconds RetCode: 0 Status: OK PackageFile: ReducedExperiment_1.0.2.tgz PackageFileSize: 3.675 MiB