Package: RedisParam Version: 1.10.0 Command: /Library/Frameworks/R.framework/Resources/bin/R CMD INSTALL RedisParam StartedAt: 2025-10-13 15:19:28 -0400 (Mon, 13 Oct 2025) EndedAt: 2025-10-13 15:20:06 -0400 (Mon, 13 Oct 2025) EllapsedTime: 38.0 seconds RetCode: 0 Status: OK