Package: RedisParam Version: 1.10.0 Command: /Library/Frameworks/R.framework/Resources/bin/R CMD build --keep-empty-dirs --no-resave-data RedisParam StartedAt: 2025-10-14 07:33:22 -0400 (Tue, 14 Oct 2025) EndedAt: 2025-10-14 07:33:32 -0400 (Tue, 14 Oct 2025) EllapsedTime: 10.1 seconds RetCode: 0 Status: OK PackageFile: RedisParam_1.10.0.tar.gz PackageFileSize: 950.5 KiB