Package: RedeR Version: 3.4.0 Command: /home/biocbuild/R/R/bin/R CMD INSTALL RedeR StartedAt: 2025-10-13 20:16:15 -0000 (Mon, 13 Oct 2025) EndedAt: 2025-10-13 20:16:37 -0000 (Mon, 13 Oct 2025) EllapsedTime: 21.8 seconds RetCode: 0 Status: OK