Package: ReadqPCR Version: 1.54.0 Command: /home/biocbuild/R/R/bin/R CMD build --keep-empty-dirs --no-resave-data ReadqPCR StartedAt: 2025-10-14 03:55:11 -0000 (Tue, 14 Oct 2025) EndedAt: 2025-10-14 03:55:21 -0000 (Tue, 14 Oct 2025) EllapsedTime: 10.0 seconds RetCode: 0 Status: OK PackageFile: ReadqPCR_1.54.0.tar.gz PackageFileSize: 484.4 KiB