Package: ReactomePA Version: 1.52.0 Command: /home/biocbuild/bbs-3.21-bioc/R/bin/R CMD build --keep-empty-dirs --no-resave-data ReactomePA StartedAt: 2025-10-15 19:24:40 -0400 (Wed, 15 Oct 2025) EndedAt: 2025-10-15 19:25:10 -0400 (Wed, 15 Oct 2025) EllapsedTime: 30.0 seconds RetCode: 0 Status: OK PackageFile: ReactomePA_1.52.0.tar.gz PackageFileSize: 57.18 KiB