Package: ReactomePA Version: 1.52.0 Command: /Library/Frameworks/R.framework/Resources/bin/R CMD INSTALL ReactomePA StartedAt: 2025-10-13 16:29:34 -0400 (Mon, 13 Oct 2025) EndedAt: 2025-10-13 16:30:23 -0400 (Mon, 13 Oct 2025) EllapsedTime: 49.3 seconds RetCode: 0 Status: OK