Package: ReactomePA Version: 1.52.0 Command: rm -rf ReactomePA.buildbin-libdir && mkdir ReactomePA.buildbin-libdir && /Users/biocbuild/BBS/utils/build-universal.sh ReactomePA_1.52.0.tar.gz /Library/Frameworks/R.framework/Resources/bin/R ReactomePA.buildbin-libdir StartedAt: 2025-10-14 14:30:50 -0400 (Tue, 14 Oct 2025) EndedAt: 2025-10-14 14:31:53 -0400 (Tue, 14 Oct 2025) EllapsedTime: 62.6 seconds RetCode: 0 Status: OK PackageFile: ReactomePA_1.52.0.tgz PackageFileSize: 92.58 KiB