Package: ReactomePA Version: 1.52.0 Command: /Library/Frameworks/R.framework/Resources/bin/R CMD INSTALL ReactomePA StartedAt: 2025-10-13 17:50:22 -0400 (Mon, 13 Oct 2025) EndedAt: 2025-10-13 17:50:49 -0400 (Mon, 13 Oct 2025) EllapsedTime: 27.0 seconds RetCode: 0 Status: OK