Package: ReactomePA Version: 1.52.0 Command: /Library/Frameworks/R.framework/Resources/bin/R CMD build --keep-empty-dirs --no-resave-data ReactomePA StartedAt: 2025-10-14 07:29:59 -0400 (Tue, 14 Oct 2025) EndedAt: 2025-10-14 07:30:39 -0400 (Tue, 14 Oct 2025) EllapsedTime: 40.1 seconds RetCode: 0 Status: OK PackageFile: ReactomePA_1.52.0.tar.gz PackageFileSize: 57.18 KiB