Package: ReactomePA Version: 1.52.0 Command: rm -rf ReactomePA.buildbin-libdir && mkdir ReactomePA.buildbin-libdir && /Users/biocbuild/BBS/utils/build-universal.sh ReactomePA_1.52.0.tar.gz /Library/Frameworks/R.framework/Resources/bin/R ReactomePA.buildbin-libdir StartedAt: 2025-10-15 20:00:41 -0400 (Wed, 15 Oct 2025) EndedAt: 2025-10-15 20:01:10 -0400 (Wed, 15 Oct 2025) EllapsedTime: 29.4 seconds RetCode: 0 Status: OK PackageFile: ReactomePA_1.52.0.tgz PackageFileSize: 92.29 KiB