Package: ReactomeGraph4R Version: 1.16.0 Command: /Library/Frameworks/R.framework/Resources/bin/R CMD INSTALL ReactomeGraph4R StartedAt: 2025-10-13 15:16:18 -0400 (Mon, 13 Oct 2025) EndedAt: 2025-10-13 15:16:49 -0400 (Mon, 13 Oct 2025) EllapsedTime: 31.1 seconds RetCode: 0 Status: OK