Package: ReactomeGraph4R Version: 1.16.0 Command: rm -rf ReactomeGraph4R.buildbin-libdir && mkdir ReactomeGraph4R.buildbin-libdir && /Users/biocbuild/BBS/utils/build-universal.sh ReactomeGraph4R_1.16.0.tar.gz /Library/Frameworks/R.framework/Resources/bin/R ReactomeGraph4R.buildbin-libdir StartedAt: 2025-10-14 14:30:43 -0400 (Tue, 14 Oct 2025) EndedAt: 2025-10-14 14:30:59 -0400 (Tue, 14 Oct 2025) EllapsedTime: 15.8 seconds RetCode: 0 Status: OK PackageFile: ReactomeGraph4R_1.16.0.tgz PackageFileSize: 876.9 KiB