Package: ReactomeGraph4R Version: 1.16.0 Command: /Library/Frameworks/R.framework/Resources/bin/R CMD build --keep-empty-dirs --no-resave-data ReactomeGraph4R StartedAt: 2025-10-14 07:29:39 -0400 (Tue, 14 Oct 2025) EndedAt: 2025-10-14 07:29:59 -0400 (Tue, 14 Oct 2025) EllapsedTime: 19.2 seconds RetCode: 0 Status: OK PackageFile: ReactomeGraph4R_1.16.0.tar.gz PackageFileSize: 943.6 KiB