Package: ReactomeGSA Version: 1.22.0 Command: /home/biocbuild/bbs-3.21-bioc/R/bin/R CMD build --keep-empty-dirs --no-resave-data ReactomeGSA StartedAt: 2025-10-15 19:24:33 -0400 (Wed, 15 Oct 2025) EndedAt: 2025-10-15 19:30:20 -0400 (Wed, 15 Oct 2025) EllapsedTime: 347.4 seconds RetCode: 0 Status: OK PackageFile: ReactomeGSA_1.22.0.tar.gz PackageFileSize: 375.3 KiB