Package: ReactomeGSA Version: 1.22.0 Command: /Library/Frameworks/R.framework/Resources/bin/R CMD build --keep-empty-dirs --no-resave-data ReactomeGSA StartedAt: 2025-10-13 21:55:16 -0400 (Mon, 13 Oct 2025) EndedAt: 2025-10-13 22:03:21 -0400 (Mon, 13 Oct 2025) EllapsedTime: 484.5 seconds RetCode: 0 Status: OK PackageFile: ReactomeGSA_1.22.0.tar.gz PackageFileSize: 399.9 KiB