Package: ReactomeGSA Version: 1.22.0 Command: /home/biocbuild/R/R/bin/R CMD build --keep-empty-dirs --no-resave-data ReactomeGSA StartedAt: 2025-10-14 03:54:51 -0000 (Tue, 14 Oct 2025) EndedAt: 2025-10-14 04:01:54 -0000 (Tue, 14 Oct 2025) EllapsedTime: 423.1 seconds RetCode: 0 Status: OK PackageFile: ReactomeGSA_1.22.0.tar.gz PackageFileSize: 290.2 KiB