Package: ReactomeContentService4R Version: 1.16.0 Command: /home/biocbuild/bbs-3.21-bioc/R/bin/R CMD INSTALL ReactomeContentService4R StartedAt: 2025-10-15 15:05:27 -0400 (Wed, 15 Oct 2025) EndedAt: 2025-10-15 15:05:52 -0400 (Wed, 15 Oct 2025) EllapsedTime: 25.1 seconds RetCode: 0 Status: OK