Package: ReactomeContentService4R Version: 1.16.0 Command: /home/biocbuild/bbs-3.21-bioc/R/bin/R CMD check --install=check:ReactomeContentService4R.install-out.txt --library=/home/biocbuild/bbs-3.21-bioc/R/site-library --timings ReactomeContentService4R_1.16.0.tar.gz StartedAt: 2025-10-16 02:42:09 -0400 (Thu, 16 Oct 2025) EndedAt: 2025-10-16 02:43:11 -0400 (Thu, 16 Oct 2025) EllapsedTime: 62.2 seconds RetCode: 1 Status: ERROR CheckDir: ReactomeContentService4R.Rcheck Warnings: NA