Package: ReactomeContentService4R Version: 1.16.0 Command: /home/biocbuild/bbs-3.21-bioc/R/bin/R CMD build --keep-empty-dirs --no-resave-data ReactomeContentService4R StartedAt: 2025-10-15 19:24:29 -0400 (Wed, 15 Oct 2025) EndedAt: 2025-10-15 19:25:17 -0400 (Wed, 15 Oct 2025) EllapsedTime: 48.1 seconds RetCode: 0 Status: OK PackageFile: ReactomeContentService4R_1.16.0.tar.gz PackageFileSize: 2.282 MiB