Package: ReactomeContentService4R Version: 1.16.0 Command: /Library/Frameworks/R.framework/Resources/bin/R CMD INSTALL ReactomeContentService4R StartedAt: 2025-10-13 15:11:32 -0400 (Mon, 13 Oct 2025) EndedAt: 2025-10-13 15:12:31 -0400 (Mon, 13 Oct 2025) EllapsedTime: 59.1 seconds RetCode: 0 Status: OK