Package: ReactomeContentService4R Version: 1.16.0 Command: /Library/Frameworks/R.framework/Resources/bin/R CMD build --keep-empty-dirs --no-resave-data ReactomeContentService4R StartedAt: 2025-10-13 21:55:03 -0400 (Mon, 13 Oct 2025) EndedAt: 2025-10-13 21:56:01 -0400 (Mon, 13 Oct 2025) EllapsedTime: 57.5 seconds RetCode: 0 Status: OK PackageFile: ReactomeContentService4R_1.16.0.tar.gz PackageFileSize: 2.282 MiB