Package: ReactomeContentService4R Version: 1.16.0 Command: /home/biocbuild/R/R/bin/R CMD INSTALL ReactomeContentService4R StartedAt: 2025-10-13 20:16:39 -0000 (Mon, 13 Oct 2025) EndedAt: 2025-10-13 20:17:19 -0000 (Mon, 13 Oct 2025) EllapsedTime: 40.4 seconds RetCode: 0 Status: OK