Package: ReactomeContentService4R Version: 1.16.0 Command: /home/biocbuild/R/R/bin/R CMD check --install=check:ReactomeContentService4R.install-out.txt --library=/home/biocbuild/R/R/site-library --no-vignettes --timings ReactomeContentService4R_1.16.0.tar.gz StartedAt: 2025-10-14 13:06:22 -0000 (Tue, 14 Oct 2025) EndedAt: 2025-10-14 13:06:48 -0000 (Tue, 14 Oct 2025) EllapsedTime: 26.1 seconds RetCode: 1 Status: ERROR CheckDir: ReactomeContentService4R.Rcheck Warnings: NA