Package: ReUseData Version: 1.8.0 Command: /home/biocbuild/bbs-3.21-bioc/R/bin/R CMD build --keep-empty-dirs --no-resave-data ReUseData StartedAt: 2025-10-15 19:27:05 -0400 (Wed, 15 Oct 2025) EndedAt: 2025-10-15 19:27:57 -0400 (Wed, 15 Oct 2025) EllapsedTime: 52.1 seconds RetCode: 0 Status: OK PackageFile: ReUseData_1.8.0.tar.gz PackageFileSize: 915.9 KiB