Package: ReUseData Version: 1.8.0 Command: /Library/Frameworks/R.framework/Resources/bin/R CMD INSTALL ReUseData StartedAt: 2025-10-13 15:23:16 -0400 (Mon, 13 Oct 2025) EndedAt: 2025-10-13 15:23:59 -0400 (Mon, 13 Oct 2025) EllapsedTime: 43.2 seconds RetCode: 0 Status: OK