Package: ReUseData Version: 1.8.0 Command: /Library/Frameworks/R.framework/Resources/bin/R CMD build --keep-empty-dirs --no-resave-data ReUseData StartedAt: 2025-10-14 07:40:00 -0400 (Tue, 14 Oct 2025) EndedAt: 2025-10-14 07:41:11 -0400 (Tue, 14 Oct 2025) EllapsedTime: 71.3 seconds RetCode: 0 Status: OK PackageFile: ReUseData_1.8.0.tar.gz PackageFileSize: 915.4 KiB