Package: Rdisop Version: 1.68.0 Command: /home/biocbuild/R/R/bin/R CMD build --keep-empty-dirs --no-resave-data Rdisop StartedAt: 2025-10-14 03:54:47 -0000 (Tue, 14 Oct 2025) EndedAt: 2025-10-14 03:55:42 -0000 (Tue, 14 Oct 2025) EllapsedTime: 55.0 seconds RetCode: 0 Status: OK PackageFile: Rdisop_1.68.0.tar.gz PackageFileSize: 708.6 KiB