Package: RcwlPipelines Version: 1.24.0 Command: /home/biocbuild/R/R/bin/R CMD INSTALL RcwlPipelines StartedAt: 2025-10-13 20:24:25 -0000 (Mon, 13 Oct 2025) EndedAt: 2025-10-13 20:24:45 -0000 (Mon, 13 Oct 2025) EllapsedTime: 19.9 seconds RetCode: 0 Status: OK