Package: RcwlPipelines Version: 1.24.0 Command: /home/biocbuild/R/R/bin/R CMD build --keep-empty-dirs --no-resave-data RcwlPipelines StartedAt: 2025-10-14 03:53:59 -0000 (Tue, 14 Oct 2025) EndedAt: 2025-10-14 03:54:50 -0000 (Tue, 14 Oct 2025) EllapsedTime: 51.0 seconds RetCode: 0 Status: OK PackageFile: RcwlPipelines_1.24.0.tar.gz PackageFileSize: 1.169 MiB