Package: Rcwl Version: 1.24.0 Command: rm -rf Rcwl.buildbin-libdir && mkdir Rcwl.buildbin-libdir && /Users/biocbuild/BBS/utils/build-universal.sh Rcwl_1.24.0.tar.gz /Library/Frameworks/R.framework/Resources/bin/R Rcwl.buildbin-libdir StartedAt: 2025-10-15 20:00:16 -0400 (Wed, 15 Oct 2025) EndedAt: 2025-10-15 20:00:34 -0400 (Wed, 15 Oct 2025) EllapsedTime: 17.2 seconds RetCode: 0 Status: OK PackageFile: Rcwl_1.24.0.tgz PackageFileSize: 1.244 MiB