Package: RcisTarget Version: 1.28.1 Command: /home/biocbuild/bbs-3.21-bioc/R/bin/R CMD build --keep-empty-dirs --no-resave-data RcisTarget StartedAt: 2025-10-15 19:23:07 -0400 (Wed, 15 Oct 2025) EndedAt: 2025-10-15 19:24:28 -0400 (Wed, 15 Oct 2025) EllapsedTime: 81.1 seconds RetCode: 0 Status: OK PackageFile: RcisTarget_1.28.1.tar.gz PackageFileSize: 12.8 MiB