Package: RcisTarget Version: 1.28.1 Command: /home/biocbuild/R/R/bin/R CMD INSTALL RcisTarget StartedAt: 2025-10-13 20:47:54 -0000 (Mon, 13 Oct 2025) EndedAt: 2025-10-13 20:48:50 -0000 (Mon, 13 Oct 2025) EllapsedTime: 55.8 seconds RetCode: 0 Status: OK