Package: RcisTarget Version: 1.28.1 Command: /Library/Frameworks/R.framework/Resources/bin/R CMD build --keep-empty-dirs --no-resave-data RcisTarget StartedAt: 2025-10-14 07:27:01 -0400 (Tue, 14 Oct 2025) EndedAt: 2025-10-14 07:28:52 -0400 (Tue, 14 Oct 2025) EllapsedTime: 110.8 seconds RetCode: 0 Status: OK PackageFile: RcisTarget_1.28.1.tar.gz PackageFileSize: 12.84 MiB