Package: RbcBook1 Version: 1.76.0 Command: /home/biocbuild/bbs-3.21-bioc/R/bin/R CMD INSTALL RbcBook1 StartedAt: 2025-10-15 15:12:07 -0400 (Wed, 15 Oct 2025) EndedAt: 2025-10-15 15:12:12 -0400 (Wed, 15 Oct 2025) EllapsedTime: 5.8 seconds RetCode: 0 Status: OK