Package: RbcBook1 Version: 1.76.0 Command: /Library/Frameworks/R.framework/Resources/bin/R CMD INSTALL RbcBook1 StartedAt: 2025-10-13 15:22:45 -0400 (Mon, 13 Oct 2025) EndedAt: 2025-10-13 15:22:56 -0400 (Mon, 13 Oct 2025) EllapsedTime: 11.2 seconds RetCode: 0 Status: OK