Package: RbcBook1 Version: 1.76.0 Command: /home/biocbuild/R/R/bin/R CMD INSTALL RbcBook1 StartedAt: 2025-10-13 20:24:25 -0000 (Mon, 13 Oct 2025) EndedAt: 2025-10-13 20:24:33 -0000 (Mon, 13 Oct 2025) EllapsedTime: 8.2 seconds RetCode: 0 Status: OK