Package: RbcBook1 Version: 1.76.0 Command: /Library/Frameworks/R.framework/Resources/bin/R CMD INSTALL RbcBook1 StartedAt: 2025-10-13 15:35:34 -0400 (Mon, 13 Oct 2025) EndedAt: 2025-10-13 15:35:40 -0400 (Mon, 13 Oct 2025) EllapsedTime: 6.2 seconds RetCode: 0 Status: OK