Package: RareVariantVis Version: 2.36.0 Command: /home/biocbuild/bbs-3.21-bioc/R/bin/R CMD INSTALL RareVariantVis StartedAt: 2025-10-15 15:58:54 -0400 (Wed, 15 Oct 2025) EndedAt: 2025-10-15 15:59:41 -0400 (Wed, 15 Oct 2025) EllapsedTime: 46.6 seconds RetCode: 0 Status: OK