Package: RareVariantVis Version: 2.36.0 Command: /home/biocbuild/R/R/bin/R CMD INSTALL RareVariantVis StartedAt: 2025-10-13 21:18:10 -0000 (Mon, 13 Oct 2025) EndedAt: 2025-10-13 21:19:17 -0000 (Mon, 13 Oct 2025) EllapsedTime: 66.6 seconds RetCode: 0 Status: OK