Package: RareVariantVis Version: 2.36.0 Command: /home/biocbuild/R/R/bin/R CMD build --keep-empty-dirs --no-resave-data RareVariantVis StartedAt: 2025-10-14 03:50:21 -0000 (Tue, 14 Oct 2025) EndedAt: 2025-10-14 03:51:28 -0000 (Tue, 14 Oct 2025) EllapsedTime: 67.0 seconds RetCode: 0 Status: OK PackageFile: RareVariantVis_2.36.0.tar.gz PackageFileSize: 2.751 MiB