Package: RankProd Version: 3.34.0 Command: /home/biocbuild/bbs-3.21-bioc/R/bin/R CMD build --keep-empty-dirs --no-resave-data RankProd StartedAt: 2025-10-15 19:21:02 -0400 (Wed, 15 Oct 2025) EndedAt: 2025-10-15 19:21:15 -0400 (Wed, 15 Oct 2025) EllapsedTime: 13.0 seconds RetCode: 0 Status: OK PackageFile: RankProd_3.34.0.tar.gz PackageFileSize: 776.9 KiB