Package: RankProd Version: 3.34.0 Command: /home/biocbuild/R/R/bin/R CMD INSTALL RankProd StartedAt: 2025-10-13 20:14:42 -0000 (Mon, 13 Oct 2025) EndedAt: 2025-10-13 20:15:08 -0000 (Mon, 13 Oct 2025) EllapsedTime: 26.2 seconds RetCode: 0 Status: OK